BEGIN:VCALENDAR
VERSION:2.0
PRODID:icalendar-ruby
CALSCALE:GREGORIAN
METHOD:PUBLISH
BEGIN:VEVENT
DTSTAMP:20260420T114248Z
UID:290-3472478@hannafirstunitedchurch.ca
DTSTART:20260423T010000Z
DTEND:20260423T030000Z
CLASS:PUBLIC
CREATED:20260407T151829
DESCRIPTION:Stage Hanna's Choir presents ... Spring Concert ... featuring s
 pecial guests.  7pm at Hanna First United Church.  Free admission\, dona
 tions welcome!
LAST-MODIFIED:20260407T151829
LOCATION:First United Church - 808 Center Street
SUMMARY:Stage Hanna's Choir Presents ... Spring Concert
URL;VALUE=URI:https://www.hannafirstunitedchurch.ca/events/stage-hannas-cho
 ir-presents-spring-concert/2026-04-22
ATTACH;FILENAME=springconcert.jpg;FMTTYPE=image/jpeg:https://dq5pwpg1q8ru0.
 cloudfront.net/2026/04/07/21/18/29/100deb4d-b545-46fe-9001-b50f5f7377ec/sp
 ringconcert.jpg
ATTACH;FILENAME=springconcert.jpg;FMTTYPE=image/jpeg:https://dq5pwpg1q8ru0.
 cloudfront.net/2026/04/07/21/16/44/d6a53e74-2e89-4796-ab1b-2ca00f9e9430/sp
 ringconcert.jpg
END:VEVENT
END:VCALENDAR
